BEGIN:VCALENDAR
VERSION:2.0
PRODID:-//Ilztalbahn - ECPv6.15.17.1//NONSGML v1.0//EN
CALSCALE:GREGORIAN
METHOD:PUBLISH
X-WR-CALNAME:Ilztalbahn
X-ORIGINAL-URL:https://ilztalbahn.eu
X-WR-CALDESC:Veranstaltungen für Ilztalbahn
REFRESH-INTERVAL;VALUE=DURATION:PT1H
X-Robots-Tag:noindex
X-PUBLISHED-TTL:PT1H
BEGIN:VTIMEZONE
TZID:Europe/Berlin
BEGIN:DAYLIGHT
TZOFFSETFROM:+0100
TZOFFSETTO:+0200
TZNAME:CEST
DTSTART:20250330T010000
END:DAYLIGHT
BEGIN:STANDARD
TZOFFSETFROM:+0200
TZOFFSETTO:+0100
TZNAME:CET
DTSTART:20251026T010000
END:STANDARD
BEGIN:DAYLIGHT
TZOFFSETFROM:+0100
TZOFFSETTO:+0200
TZNAME:CEST
DTSTART:20260329T010000
END:DAYLIGHT
BEGIN:STANDARD
TZOFFSETFROM:+0200
TZOFFSETTO:+0100
TZNAME:CET
DTSTART:20261025T010000
END:STANDARD
BEGIN:DAYLIGHT
TZOFFSETFROM:+0100
TZOFFSETTO:+0200
TZNAME:CEST
DTSTART:20270328T010000
END:DAYLIGHT
BEGIN:STANDARD
TZOFFSETFROM:+0200
TZOFFSETTO:+0100
TZNAME:CET
DTSTART:20271031T010000
END:STANDARD
END:VTIMEZONE
BEGIN:VEVENT
DTSTART;VALUE=DATE:20261004
DTEND;VALUE=DATE:20261005
DTSTAMP:20260425T055817
CREATED:20260204T185129Z
LAST-MODIFIED:20260405T102536Z
UID:18201-1791072000-1791158399@ilztalbahn.eu
SUMMARY:Wanderung: Über Klausgupf\, Michelsklamm und Fuchsenstein
DESCRIPTION:Nach einer gemeinsamen Busfahrt nach Frauenberg wird zu einigen wenig bekannten Kleinoden in der Dreisesselregion gewandert. Die geführte Wanderung führt über den Aussichtsfelsen Klausgupf durch herbstlich bunte Laubwälder hinein in die wildromantische Michelsklamm. Während der Wanderung wird das Nachhaltigkeitsziel 3 „Gesundheit und Wohlergehen“ über kleine meditative Einheiten eingebaut. Über schmale Pfade führt der Weg durch die Brennerin zum versteckt gelegenen Fuchsenstein. Die Wanderung folgt über den Adalbert-Stifter-Geh- und Radweg nach Neureichenau\, wo eine Einkehr eingeplant und die Rückfahrt nach Waldkirchen per Bus zurückgelegt wird. \nAnfahrt mit der Ilztalbahn: Passau ab um 7.38 Uhr\, Waldkirchen an 8.36 Uhr; Rückfahrt ab Bahnhof Waldkirchen um 16.44 Uhr\, Passau an 17.44 Uhr \nReferent: Johannes Matt\, Umweltstation Waldkirchen \nIn Kooperation mit: Ilztalbahn\, HNKKJ & Umweltstation Waldkirchen \nFür Familien geeignet! \nTreffpunkt: Bahnhof Waldkirchen um 08:40 Uhr (nach Ankunft des Zuges aus Passau) \nAnmeldung bis Freitag\, 02.10.2026\, 12:00 Uhr bei Johannes Matt\, unter Tel.: 0171 3610115
URL:https://ilztalbahn.eu/saisonkalender/wanderung-klausgupf/
CATEGORIES:Eventfahrt,Geführte Wanderung
ATTACH;FMTTYPE=image/jpeg:https://ilztalbahn.eu/wp-content/uploads/2018/08/k6.jpg
END:VEVENT
BEGIN:VEVENT
DTSTART;VALUE=DATE:20261011
DTEND;VALUE=DATE:20261012
DTSTAMP:20260425T055817
CREATED:20251218T230013Z
LAST-MODIFIED:20260307T083245Z
UID:18063-1791676800-1791763199@ilztalbahn.eu
SUMMARY:Tagesausflug Freilichtmuseum Finsterau
DESCRIPTION:Auf fast 1.000 m Höhe am Fuße des Lusens beherbergt das Freilichtmuseum ein einzigartiges Ensemble historischer Bauernhäuser und Höfe. Fast wirkt es so\, als hätten die ursprünglichen Bewohnerinnen und Bewohner ihre Häuser nur kurz verlassen\, so Lebensnah sind Einrichtung und Ausstattung. Daneben bieten das Museumswirtshaus (die „radizierte Tafernwirtschaft ‚D’Ehrn'“) und das Café Heimat Gelegenheit zur Einkehr. \nGemeinsam mit dem Freilichtmuseum Finsterau organisieren wir einen Tagesausflug. Los geht es mit der Ilztalbahn in Passau\, der Zustieg ist an allen Zwischenstationen bis Freyung möglich. In Freyung wartet ein eigener Bus\, der Sie direkt ins Freilichtmuseum und auch später wieder zurück bringt. Im Preis inbegriffen sind Bahn- und Busfahrt\, sowie Eintritt und Führung im Freilichtmuseum. \nJetzt buchen: \nBuchung im Ilztalbahn-Onlineshop \nTelefonische Buchung und weitere Informationen: 08581 9897 136 \nDas Programm am 11. Oktober: \nPassau Hbf ab 7:38 Uhr (Zustieg an allen Ilztalbahn-Stationen möglich)\nFreyung an 9:00 Uhr \nUmstieg in den Bus \nFreyung ab 09:10 Uhr\nFinsterau an 09:35 Uhr \nAufenthalt im Freilichtmuseum mit Führung und Möglichkeit zum Mittagessen \nFinsterau ab 15:35 Uhr\nFreyung an 16:00 Uhr \nUmstieg in die Ilztalbahn \nFreyung ab 16:20 Uhr\nPassau Hbf an 17:44 Uhr (Ausstieg an allen Ilztalbahn-Stationen möglich)
URL:https://ilztalbahn.eu/saisonkalender/tagesausflug-finsterau-2/
CATEGORIES:Eventfahrt,Tagesausflug
ATTACH;FMTTYPE=image/jpeg:https://ilztalbahn.eu/wp-content/uploads/2025/09/y26000-4337-1.jpg
END:VEVENT
BEGIN:VEVENT
DTSTART;VALUE=DATE:20261018
DTEND;VALUE=DATE:20261019
DTSTAMP:20260425T055817
CREATED:20251218T225037Z
LAST-MODIFIED:20260310T204954Z
UID:18048-1792281600-1792367999@ilztalbahn.eu
SUMMARY:Weinprobefahrt
DESCRIPTION:Auf der Fahrt in unserem Triebwagen durch das malerische Ilztal erleben Sie zusammen mit den Weinexperten des Weinkontor Ernst GdbR ehemals Weiss die Vielfalt der Weinlandschaft. Die erfahrenen Weinexperten werden Sie durch diesen geschmacklichen Ausflug führen und dabei Wissenswertes über Anbau\, Rebsorten und Herstellung vermitteln. Insgesamt werden sieben verschiedene Weine verkostet. \n\nAbfahrt in Passau Hbf: 14:45 Uhr\nAnkunft in Passau Hbf: 17:44 Uhr\n\nBuchung im Onlineshop \nTelefonische Buchung und weitere Informationen: 08581 9897 136
URL:https://ilztalbahn.eu/saisonkalender/weinprobefahrt-6/
CATEGORIES:Eventfahrt,Weinprobefahrt
ATTACH;FMTTYPE=image/jpeg:https://ilztalbahn.eu/wp-content/uploads/2025/01/628er-Ilz-Kalteneck-scaled.jpg
END:VEVENT
END:VCALENDAR